BEGIN:VCALENDAR
VERSION:2.0
PRODID:-//Tukios.com/
BEGIN:VEVENT
UID:9e49a718-f828-4886-893b-fee5936cf6fb@www.virgillhowardfuneralhome.com
DTSTAMP:20260422T205755Z
DTSTART:20260426T170000Z
DTEND:20260426T200000Z
SUMMARY:Visitation
DESCRIPTION:
URL:https://www.virgillhowardfuneralhome.com/obituaries/franklin-green
LOCATION: 118 Union St  Shinglehouse PA 16748
GEO:41.9617336;-78.1943687
END:VEVENT
END:VCALENDAR