BEGIN:VCALENDAR
VERSION:2.0
PRODID:-//Tukios.com/
BEGIN:VEVENT
UID:d423d95f-5277-4f9a-8a23-da7d64647626@www.virgillhowardfuneralhome.com
DTSTAMP:20260422T210223Z
DTSTART:20260427T160000Z
DTEND:20260427T170000Z
SUMMARY:Visitation
DESCRIPTION:
URL:https://www.virgillhowardfuneralhome.com/obituaries/franklin-green
LOCATION: 118 Union St  Shinglehouse PA 16748
GEO:41.9617336;-78.1943687
END:VEVENT
END:VCALENDAR