BEGIN:VCALENDAR
VERSION:2.0
PRODID:-//Tukios.com/
BEGIN:VEVENT
UID:8db9a1fb-d793-400a-8981-a42108b314c9@www.virgillhowardfuneralhome.com
DTSTAMP:20260422T210151Z
DTSTART:20260427T170000Z
DTEND:20260427T180000Z
SUMMARY:Funeral Service
DESCRIPTION:
URL:https://www.virgillhowardfuneralhome.com/obituaries/franklin-green
LOCATION: 118 Union St  Shinglehouse PA 16748
GEO:41.9617336;-78.1943687
END:VEVENT
END:VCALENDAR